BEGIN:VCALENDAR
VERSION:2.0
PRODID:-//Sant Josep de Sa Talaia - ECPv6.10.3//NONSGML v1.0//EN
CALSCALE:GREGORIAN
METHOD:PUBLISH
X-WR-CALNAME:Sant Josep de Sa Talaia
X-ORIGINAL-URL:https://shoppingsantjosep.com
X-WR-CALDESC:Eventos para Sant Josep de Sa Talaia
REFRESH-INTERVAL;VALUE=DURATION:PT1H
X-Robots-Tag:noindex
X-PUBLISHED-TTL:PT1H
BEGIN:VTIMEZONE
TZID:Europe/Paris
BEGIN:DAYLIGHT
TZOFFSETFROM:+0100
TZOFFSETTO:+0200
TZNAME:CEST
DTSTART:20240331T010000
END:DAYLIGHT
BEGIN:STANDARD
TZOFFSETFROM:+0200
TZOFFSETTO:+0100
TZNAME:CET
DTSTART:20241027T010000
END:STANDARD
END:VTIMEZONE
BEGIN:VEVENT
DTSTART;VALUE=DATE:20241017
DTEND;VALUE=DATE:20241021
DTSTAMP:20260419T165935
CREATED:20250306T201150Z
LAST-MODIFIED:20250306T201751Z
UID:1381-1729123200-1729468799@shoppingsantjosep.com
SUMMARY:Fira de la Sal
DESCRIPTION:El Ayuntamiento de Sant Josep de sa Talaia\, a través del área de Promoción Turística\, ha presentado hoy la octava edición de la Fira de la Sal\, que se celebrará esta semana\, entre el jueves 17 y el domingo 20 de octubre\, en Sant Jordi\, Sant Francesc y otros lugares del Parque Natural de ses Salines. \nEl alcalde\, Vicente Roig\, ha explicado que este año la Fira de la Sal “está llena de novedades”\, empezando porque “queremos que la gente venga a disfrutar de la feria en familia y que sea cada vez una feria más sostenible\, de forma que habilitaremos aparcamientos para que todo el mundo pueda dejar su coche y acercarse al Parque Natural en trenecito o con los minibuses que hemos habilitado”. Además\, “para todos los que quieran hacer la ruta en bicicleta\, por primera vez se ofrecerá un servicio de préstamo y\, de la misma manera\, invitamos a todo el mundo a venir con sus bicicletas para disfrutar de las rutas que presentamos”. \n“Con todo esto -ha añadido Roig- queremos concienciar cada vez más\, tanto a residentes como a turistas\, de la importancia de cuidar y conservar el Parque Natural de ses Salines\, reduciendo al máximo la entrada de vehículos a motor”. “A la hora de dar ejemplo\, nosotros somos los primeros que debemos aplicarlo”\, ha concluido el alcalde. \n \nProgramación \nAunque el grueso de la programación de la Fira de la Sal tiene lugar el fin de semana\, el jueves y el viernes ya se han organizado algunos actos para calentar motores. \nAsí\, el jueves 17 de octubre a las 19.30 horas se dará inicio a la feria con el estreno del documental Relats de Sal\, a cargo del Consell Insular d’Eivissa\, en la Plaza de la Iglesia de Sant Jordi\, y el viernes 18 de octubre\, a las 19.30 horas\, tendrá lugar en la Iglesia de Sant Francesc de s’Estany la presentación del libro ‘Un passeig per ses Salines’\, de Neus Escandell. \nEl sábado la programación de la Fira de la Sal se desarrolla íntegramente en Sant Jordi\, excepto una caminata por ses Salines\, que saldrá a las 10 horas desde la era de la antigua montaña del pantano. De esta forma\, el pueblo acogerá desde la mañana un mercado artesanal y diferentes talleres\, tanto infantiles como para toda la familia\, con la sal como protagonista. Asimismo\, habrá animación infantil\, la entrega de premios del concurso Salipinta y actividades complementarias\, como un photocall salinero. \nA partir de las 12.45 horas\, para ir abriendo el apetito\, habrá diferentes demostraciones gastronómicas y culinarias\, y a las 14.00 horas se ofrecerá la comida popular de huesos con col\, que se ofrecerá en unas fiambreras especiales salineras a un precio de 5 euros por ración. El almuerzo\, además\, estará amenizado por la música de Maya Alexander Quartet. \nYa por la tarde\, a partir de las 18.30 horas se celebrará la tradicional Salpassa\, que irá seguida de una misa solemne a las 20 horas. \nParalelamente\, el Centro de Interpretación de Sant Francesc de s’Estany abrirá sus puertas tanto el sábado como el domingo\, entre las 9.30 y las 15 horas. \nÉsta será una de las cinco zonas diferenciadas donde habrá las actividades del domingo\, que se trasladan al Parque Natural de ses Salines. \nEl resto tendrá lugar en la torre de sa Sal Rossa\, con una visita teatralizada y otra visita guiada a la antigua plaza empedrada\, a partir de las 10.15 horas; en el Pou des Carbó\, con charlas y talleres para todas las edades\, a partir de las 10.15 horas; en el antiguo monte del pantano\, con mesas informativas a lo largo de la mañana y una muestra de encendido de la hoguera a las 12 horas y en las salinas más próximas a la playa de es Cavallet\, donde Vicent Marí ‘Palermet’ y Antoni Ferrer Abárzuza explicarán la cosecha tradicional de sal.
URL:https://shoppingsantjosep.com/mercados-y-ferias/fira-de-la-sal/
LOCATION:Parc Natural de Ses Salines d’Eivissa\, Sant Josep de Sa Talaia\, Baleares\, 07818\, Spain
END:VEVENT
END:VCALENDAR